BEGIN:VCALENDAR
VERSION:2.0
PRODID:-//Tukios.com/
BEGIN:VEVENT
UID:b7608478-6e26-4e14-a6c4-a1aa9f567168@www.pipkinbraswell.com
DTSTAMP:20260426T035048Z
DTSTART:20260506T200000Z
DTEND:20260506T210000Z
SUMMARY:Interment
DESCRIPTION:
URL:https://www.pipkinbraswell.com/obituaries/parrow-ware
LOCATION: 430 S Quebec St  Denver CO 80247
GEO:39.7082294;-104.9030468
END:VEVENT
END:VCALENDAR