BEGIN:VCALENDAR
VERSION:2.0
PRODID:-//Tukios.com/
BEGIN:VEVENT
UID:5b681bd7-9cea-46de-9a6d-f40df4eb3832@www.pipkinbraswell.com
DTSTAMP:20260426T035446Z
DTSTART:20260506T170000Z
DTEND:20260506T190000Z
SUMMARY:Celebration of Life
DESCRIPTION:
URL:https://www.pipkinbraswell.com/obituaries/parrow-ware
LOCATION: 6601 E Colfax Ave  Denver CO 80220
GEO:39.7404752;-104.9111901
END:VEVENT
END:VCALENDAR