BEGIN:VCALENDAR
VERSION:2.0
PRODID:-//Tukios.com/
BEGIN:VEVENT
UID:ee965612-d6ac-44ac-9c23-73990b3aac53@www.pipkinbraswell.com
DTSTAMP:20260426T035323Z
DTSTART:20260505T220000Z
DTEND:20260506T000000Z
SUMMARY:Visitation
DESCRIPTION:
URL:https://www.pipkinbraswell.com/obituaries/parrow-ware
LOCATION: 6601 E Colfax Ave  Denver CO 80220
GEO:39.7404752;-104.9111901
END:VEVENT
END:VCALENDAR