BEGIN:VCALENDAR
VERSION:2.0
PRODID:-//Tukios.com/
BEGIN:VEVENT
UID:97ec0c1b-44df-4c20-82ef-abae34aece73@www.pipkinbraswell.com
DTSTAMP:20260426T033109Z
DTSTART:20260514T183000Z
DTEND:20260514T193000Z
SUMMARY:Burial
DESCRIPTION:
URL:https://www.pipkinbraswell.com/obituaries/michael-jones
LOCATION: 4400 W. Kenyon Blvd  Denver CO 80236
GEO:39.6489283;-105.04218
END:VEVENT
END:VCALENDAR