BEGIN:VCALENDAR
VERSION:2.0
PRODID:-//Tukios.com/
BEGIN:VEVENT
UID:27a03480-2a3f-4403-b4c7-28b23fa60dc3@www.pipkinbraswell.com
DTSTAMP:20260426T032950Z
DTSTART:20260513T190000Z
DTEND:20260513T210000Z
SUMMARY:Reception
DESCRIPTION:
URL:https://www.pipkinbraswell.com/obituaries/michael-jones
LOCATION: 6601 E Colfax Ave  Denver CO 80220
GEO:39.7404752;-104.9111901
END:VEVENT
END:VCALENDAR