BEGIN:VCALENDAR
VERSION:2.0
PRODID:-//Tukios.com/
BEGIN:VEVENT
UID:295a2c4e-41ec-4b94-b298-26cd60ddbefe@www.pipkinbraswell.com
DTSTAMP:20260426T033527Z
DTSTART:20260513T170000Z
DTEND:20260513T190000Z
SUMMARY:Memorial Celebation
DESCRIPTION:
URL:https://www.pipkinbraswell.com/obituaries/michael-jones
LOCATION: 6601 E Colfax Ave  Denver CO 80220
GEO:39.7404752;-104.9111901
END:VEVENT
END:VCALENDAR