BEGIN:VCALENDAR
VERSION:2.0
PRODID:-//Tukios.com/
BEGIN:VEVENT
UID:44bfb996-ef2b-4691-a5a8-6862b5040424@www.pipkinbraswell.com
DTSTAMP:20260421T205214Z
DTSTART:20260510T180000Z
DTEND:20260510T220000Z
SUMMARY:Visitation
DESCRIPTION:
URL:https://www.pipkinbraswell.com/obituaries/melvin-goree
LOCATION: 6601 E Colfax Ave  Denver CO 80220
GEO:39.7404752;-104.9111901
END:VEVENT
END:VCALENDAR