BEGIN:VCALENDAR
VERSION:2.0
PRODID:-//Tukios.com/
BEGIN:VEVENT
UID:e3f5f65a-321e-4142-adf7-99e4f292d21a@www.pipkinbraswell.com
DTSTAMP:20260421T205826Z
DTSTART:20260511T200000Z
DTEND:20260511T203000Z
SUMMARY:Graveside Service
DESCRIPTION:
URL:https://www.pipkinbraswell.com/obituaries/melvin-goree
LOCATION: 4400 W. Kenyon Blvd  Denver CO 80236
GEO:39.6489283;-105.04218
END:VEVENT
END:VCALENDAR