BEGIN:VCALENDAR
VERSION:2.0
PRODID:-//Tukios.com/
BEGIN:VEVENT
UID:61a78c7d-1ee8-4ba9-bb48-262c6d9fea40@www.pipkinbraswell.com
DTSTAMP:20260421T205527Z
DTSTART:20260511T170000Z
DTEND:20260511T190000Z
SUMMARY:Celebration of Life
DESCRIPTION:
URL:https://www.pipkinbraswell.com/obituaries/melvin-goree
LOCATION: 6601 E Colfax Ave  Denver CO 80220
GEO:39.7404752;-104.9111901
END:VEVENT
END:VCALENDAR