BEGIN:VCALENDAR
VERSION:2.0
PRODID:-//Tukios.com/
BEGIN:VEVENT
UID:8c56463a-63bd-49c6-8e55-dfb9f853ef7c@www.pipkinbraswell.com
DTSTAMP:20260421T181427Z
DTSTART:20260429T170000Z
DTEND:20260429T190000Z
SUMMARY:Funeral Service
DESCRIPTION:
URL:https://www.pipkinbraswell.com/obituaries/danny-hamilton
LOCATION: 6601 E Colfax Ave  Denver CO 80220
GEO:39.7404752;-104.9111901
END:VEVENT
END:VCALENDAR