BEGIN:VCALENDAR
VERSION:2.0
PRODID:-//Tukios.com/
BEGIN:VEVENT
UID:7bb34984-5ac7-4ac5-86cd-140b171bbb5a@www.pipkinbraswell.com
DTSTAMP:20260421T182123Z
DTSTART:20260429T150000Z
DTEND:20260429T170000Z
SUMMARY:Visitation
DESCRIPTION:
URL:https://www.pipkinbraswell.com/obituaries/danny-hamilton
LOCATION: 6601 E Colfax Ave  Denver CO 80220
GEO:39.7404752;-104.9111901
END:VEVENT
END:VCALENDAR